BEGIN:VCALENDAR
VERSION:2.0
PRODID:-//Person to Person - ECPv6.15.20//NONSGML v1.0//EN
CALSCALE:GREGORIAN
METHOD:PUBLISH
X-ORIGINAL-URL:https://p2phelps.org
X-WR-CALDESC:Events for Person to Person
REFRESH-INTERVAL;VALUE=DURATION:PT1H
X-Robots-Tag:noindex
X-PUBLISHED-TTL:PT1H
BEGIN:VTIMEZONE
TZID:America/New_York
BEGIN:DAYLIGHT
TZOFFSETFROM:-0500
TZOFFSETTO:-0400
TZNAME:EDT
DTSTART:20220313T070000
END:DAYLIGHT
BEGIN:STANDARD
TZOFFSETFROM:-0400
TZOFFSETTO:-0500
TZNAME:EST
DTSTART:20221106T060000
END:STANDARD
BEGIN:DAYLIGHT
TZOFFSETFROM:-0500
TZOFFSETTO:-0400
TZNAME:EDT
DTSTART:20230312T070000
END:DAYLIGHT
BEGIN:STANDARD
TZOFFSETFROM:-0400
TZOFFSETTO:-0500
TZNAME:EST
DTSTART:20231105T060000
END:STANDARD
BEGIN:DAYLIGHT
TZOFFSETFROM:-0500
TZOFFSETTO:-0400
TZNAME:EDT
DTSTART:20240310T070000
END:DAYLIGHT
BEGIN:STANDARD
TZOFFSETFROM:-0400
TZOFFSETTO:-0500
TZNAME:EST
DTSTART:20241103T060000
END:STANDARD
END:VTIMEZONE
BEGIN:VEVENT
DTSTART;TZID=America/New_York:20230318T110000
DTEND;TZID=America/New_York:20230318T110000
DTSTAMP:20260421T161031
CREATED:20230324T131839Z
LAST-MODIFIED:20230324T151646Z
UID:10000490-1679137200-1679137200@p2phelps.org
SUMMARY:P2P on Wheels: Saturday Mobile Food Pantry.
DESCRIPTION:The Mobile Food Pantry is open 11am-2pm by appointment. It is a self-select mobile food pantry that is open to clients who have made an appointment in advance. The Food Pantry offers healthy\, nutritious groceries\, including fresh produce\, dairy items\, meat and poultry\, and shelf-stable goods. \n\n\n\nHow Do I Sign Up?\n\n\n\nCall 203-939-1650 to register & schedule an appointment \n\n\n\nImportant To Know\n\n\n\nMasks are required inside the truck | Shopping is limited to 1 visit per monthP2P does not provide shopping bags; please bring your own reusable bags \n\n\n\nNCHC-2023-EnglishDownload\n\n\n\nNCHC-2023-SpanishDownload
URL:https://p2phelps.org/event/p2p-on-wheels-saturday-mobile-food-pantry-7/
LOCATION:Norwalk Community Health Center\, \, 120 Connecticut Ave\, Norwalk\, 06854\, United States
CATEGORIES:P2P on Wheels: Mobile Food Pantry
END:VEVENT
END:VCALENDAR